BEGIN:VCALENDAR
VERSION:2.0
PRODID:-//lymeconnection.org//NONSGML kigkonsult.se iCalcreator 2.30.10//
CALSCALE:GREGORIAN
METHOD:PUBLISH
UID:1795871f-a5bb-4bcb-bfa1-688e6223e510
X-WR-CALDESC:\n\n
X-WR-RELCALID:6b8556fa3bd0e4042350e1b25a827751
X-WR-TIMEZONE:America/New_York
BEGIN:VTIMEZONE
TZID:America/New_York
BEGIN:STANDARD
TZNAME:EST
DTSTART:20191103T020000
TZOFFSETFROM:-0400
TZOFFSETTO:-0500
RDATE:20201101T020000
END:STANDARD
BEGIN:DAYLIGHT
TZNAME:EDT
DTSTART:20190310T020000
TZOFFSETFROM:-0500
TZOFFSETTO:-0400
RDATE:20200308T020000
RDATE:20210314T020000
END:DAYLIGHT
END:VTIMEZONE
BEGIN:VEVENT
UID:9cf29a09-9a3e-4970-92fd-fce9dbf9fa42
DTSTAMP:20260420T033801Z
DESCRIPTION:\n\n
DTSTART;TZID=America/New_York:20200204T173000
DTEND;TZID=America/New_York:20200204T190000
LOCATION:Lyme Connection Offices\, Town Hall Annex\, 66 Prospect St.\, Ridg
 efield
SUMMARY:Task Force Meeting
END:VEVENT
END:VCALENDAR
