BEGIN:VCALENDAR
VERSION:2.0
PRODID:-//lymeconnection.org//NONSGML kigkonsult.se iCalcreator 2.30.10//
CALSCALE:GREGORIAN
METHOD:PUBLISH
UID:24945d86-bff2-460d-9c58-0bb3bee7744a
X-WR-CALDESC:\n\n
X-WR-RELCALID:a77f95e965813d527f1355f12f6c1b48
X-WR-TIMEZONE:America/New_York
BEGIN:VTIMEZONE
TZID:America/New_York
BEGIN:STANDARD
TZNAME:EST
DTSTART:20191103T020000
TZOFFSETFROM:-0400
TZOFFSETTO:-0500
RDATE:20201101T020000
END:STANDARD
BEGIN:DAYLIGHT
TZNAME:EDT
DTSTART:20200308T020000
TZOFFSETFROM:-0500
TZOFFSETTO:-0400
RDATE:20210314T020000
END:DAYLIGHT
END:VTIMEZONE
BEGIN:VEVENT
UID:9f28cbec-6317-4689-be4d-ad11900177b1
DTSTAMP:20260420T071109Z
DESCRIPTION:\n\n
DTSTART;TZID=America/New_York:20200407T173000
DTEND;TZID=America/New_York:20200407T190000
LOCATION:Lyme Connection Offices\, Town Hall Annex\, 66 Prospect St.\, Ridg
 efield
SUMMARY:Task Force Meeting
END:VEVENT
END:VCALENDAR
