BEGIN:VCALENDAR
VERSION:2.0
PRODID:-//lymeconnection.org//NONSGML kigkonsult.se iCalcreator 2.30.10//
CALSCALE:GREGORIAN
METHOD:PUBLISH
UID:4e8f2a49-0587-44ac-87ee-ad0afbeafb22
X-WR-CALDESC:\n\n
X-WR-RELCALID:f0269de47256c691d15b85ecaf79a9ab
X-WR-TIMEZONE:America/New_York
BEGIN:VTIMEZONE
TZID:America/New_York
BEGIN:STANDARD
TZNAME:EST
DTSTART:20191103T020000
TZOFFSETFROM:-0400
TZOFFSETTO:-0500
RDATE:20201101T020000
RDATE:20211107T020000
END:STANDARD
BEGIN:DAYLIGHT
TZNAME:EDT
DTSTART:20200308T020000
TZOFFSETFROM:-0500
TZOFFSETTO:-0400
RDATE:20210314T020000
END:DAYLIGHT
END:VTIMEZONE
BEGIN:VEVENT
UID:c1ad17be-8631-479d-b334-27b3d133ef69
DTSTAMP:20260420T103802Z
DESCRIPTION:\n\n
DTSTART;TZID=America/New_York:20200602T173000
DTEND;TZID=America/New_York:20200602T190000
LOCATION:Lyme Connection Offices\, Town Hall Annex\, 66 Prospect St.\, Ridg
 efield
SUMMARY:Task Force Meeting
END:VEVENT
END:VCALENDAR
