BEGIN:VCALENDAR
VERSION:2.0
PRODID:-//lymeconnection.org//NONSGML kigkonsult.se iCalcreator 2.30.10//
CALSCALE:GREGORIAN
METHOD:PUBLISH
UID:1547df59-1a9d-415c-a8c4-e357be857155
X-WR-CALDESC:Join us for the movie screening of 'THE QUIET EPIDEMIC' Sponso
 red by Lyme Connection\nRidgefield Playhouse 80 East Ridge Road\, Ridgefie
 ld\, CT 06877\nShowtime: Sunday\, May 8\, 2023 Doors open at 6:00 PM\n\nTh
 e Quiet Epidemic - A documentary about Lyme disease\nA feature-length docu
 mentary about Lyme disease premiering at HotDocs 2022 as part of their spe
 cial presentations program.\nhttps://www.thequietepidemic.com
X-WR-RELCALID:8e4a1b80e6f26e16d096a53d1d803155
X-WR-TIMEZONE:America/New_York
BEGIN:VTIMEZONE
TZID:America/New_York
BEGIN:STANDARD
TZNAME:EST
DTSTART:20221106T020000
TZOFFSETFROM:-0400
TZOFFSETTO:-0500
RDATE:20231105T020000
RDATE:20241103T020000
END:STANDARD
BEGIN:DAYLIGHT
TZNAME:EDT
DTSTART:20230312T020000
TZOFFSETFROM:-0500
TZOFFSETTO:-0400
RDATE:20240310T020000
END:DAYLIGHT
END:VTIMEZONE
BEGIN:VEVENT
UID:25e2cea3-e559-4ea4-afd7-b4221a1a47b2
DTSTAMP:20260421T094323Z
DESCRIPTION:Join us for the movie screening of 'THE QUIET EPIDEMIC' Sponsor
 ed by Lyme Connection\nRidgefield Playhouse 80 East Ridge Road\, Ridgefiel
 d\, CT 06877\nShowtime: Sunday\, May 8\, 2023 Doors open at 6:00 PM\n\nThe
  Quiet Epidemic - A documentary about Lyme disease\nA feature-length docum
 entary about Lyme disease premiering at HotDocs 2022 as part of their spec
 ial presentations program.\nhttps://www.thequietepidemic.com
DTSTART;TZID=America/New_York:20230508T180000
DTEND;TZID=America/New_York:20230508T200000
LOCATION:80 East Ridge Road\, Ridgefield\, CT 06877 US
SUMMARY:The Quiet Epidemic - A documentary about Lyme disease
END:VEVENT
END:VCALENDAR
