BEGIN:VCALENDAR
VERSION:2.0
PRODID:-//lymeconnection.org//NONSGML kigkonsult.se iCalcreator 2.30.10//
CALSCALE:GREGORIAN
METHOD:PUBLISH
UID:af6e780c-a98d-4318-b51c-b356e2ff32e5
X-WR-CALDESC:Join Lyme Connection in welcoming Ross Douthat to the Ridgefie
 ld Library to discuss his book\, The Deep Places. Douthat\, a New York Tim
 es opinion columnist and author\, will discuss his battle with a devastati
 ng sickness\, ultimately diagnosed as a chronic form of Lyme disease. In T
 he Deep Places\, Ross details the struggles faced by many Lyme patients as
  they seek a proper diagnosis and appropriate medical care—and explores th
 e controversies that surround these insidious tick-borne diseases. During 
 his journey\, Douthat discovers the many pitfalls of modern medicine\, as 
 well as the strength and courage needed to reclaim his health.
X-WR-RELCALID:970f9707e70e11ca5084178a31f3f7ae
X-WR-TIMEZONE:America/New_York
BEGIN:VTIMEZONE
TZID:America/New_York
BEGIN:STANDARD
TZNAME:EST
DTSTART:20221106T020000
TZOFFSETFROM:-0400
TZOFFSETTO:-0500
RDATE:20231105T020000
RDATE:20241103T020000
END:STANDARD
BEGIN:DAYLIGHT
TZNAME:EDT
DTSTART:20230312T020000
TZOFFSETFROM:-0500
TZOFFSETTO:-0400
RDATE:20240310T020000
END:DAYLIGHT
END:VTIMEZONE
BEGIN:VEVENT
UID:5de7331c-dc08-4586-a6fb-fbdb0c5d0320
DTSTAMP:20260423T110803Z
DESCRIPTION:Join Lyme Connection in welcoming Ross Douthat to the Ridgefiel
 d Library to discuss his book\, The Deep Places. Douthat\, a New York Time
 s opinion columnist and author\, will discuss his battle with a devastatin
 g sickness\, ultimately diagnosed as a chronic form of Lyme disease. In Th
 e Deep Places\, Ross details the struggles faced by many Lyme patients as 
 they seek a proper diagnosis and appropriate medical care—and explores the
  controversies that surround these insidious tick-borne diseases. During h
 is journey\, Douthat discovers the many pitfalls of modern medicine\, as w
 ell as the strength and courage needed to reclaim his health.
DTSTART;TZID=America/New_York:20230525T190000
DTEND;TZID=America/New_York:20230525T203000
LOCATION:472 Main Street\, Ridgefield\, CT 06877 US
SUMMARY:Ross Douthat at Ridgefield Library
END:VEVENT
END:VCALENDAR
